BEGIN:VCALENDAR
VERSION:2.0
PRODID:-//hacksw/handcal//NONSGML v1.0//EN
CALSCALE:GREGORIAN
BEGIN:VEVENT
LOCATION:
DESCRIPTION:
SUMMARY:Visite. L’écoquartier Marly: Biodiversité et qualité de vie
URL;VALUE=URI:
DTSTART;TZID=EUROPE/ZURICH:20230913T180000
DTEND;TZID=EUROPE/ZURICH:20230913T200000
DTSTAMP:20260421T205107Z
CREATED:20260421T205107Z
UID:69e7e33be341f
END:VEVENT
END:VCALENDAR