BEGIN:VCALENDAR
VERSION:2.0
PRODID:-//hacksw/handcal//NONSGML v1.0//EN
CALSCALE:GREGORIAN
BEGIN:VEVENT
LOCATION:Swiss DoJo\, Chemin de l'Ecluse 10\, 1913 Saillon
DESCRIPTION:
SUMMARY:Conférence. Table ronde des architectes de Visarte VS
URL;VALUE=URI:
DTSTART;TZID=EUROPE/ZURICH:20230826T170000
DTSTAMP:20260423T163128Z
CREATED:20260423T163128Z
UID:69ea4960b5307
END:VEVENT
END:VCALENDAR