BEGIN:VCALENDAR
VERSION:2.0
PRODID:-//hacksw/handcal//NONSGML v1.0//EN
CALSCALE:GREGORIAN
BEGIN:VEVENT
LOCATION:
DESCRIPTION:
SUMMARY:Visite. École des Plaines-du-Loup
URL;VALUE=URI:
DTSTART;TZID=EUROPE/ZURICH:20230921T170000
DTSTAMP:20260421T233814Z
CREATED:20260421T233814Z
UID:69e80a66cee1f
END:VEVENT
END:VCALENDAR