BEGIN:VCALENDAR
VERSION:2.0
PRODID:-//hacksw/handcal//NONSGML v1.0//EN
CALSCALE:GREGORIAN
BEGIN:VEVENT
LOCATION:
DESCRIPTION:
SUMMARY:Exposition. Fribourg vu du ciel
URL;VALUE=URI:
DTSTART;VALUE=DATE:20230828
DTEND;VALUE=DATE:20230925
DTSTAMP:20260423T111620Z
CREATED:20260423T111620Z
UID:69e9ff8469d44
END:VEVENT
END:VCALENDAR