BEGIN:VCALENDAR
VERSION:2.0
PRODID:-//hacksw/handcal//NONSGML v1.0//EN
CALSCALE:GREGORIAN
BEGIN:VEVENT
LOCATION:L'îlot-S - Caue\, 7 esplanade Paul Grimault
DESCRIPTION:
SUMMARY:Exposition. Réparer le futur
URL;VALUE=URI:
DTSTART;VALUE=DATE:20231004
DTEND;VALUE=DATE:20240302
DTSTAMP:20260424T194421Z
CREATED:20260424T194421Z
UID:69ebc8150a32b
END:VEVENT
END:VCALENDAR