BEGIN:VCALENDAR
VERSION:2.0
PRODID:-//hacksw/handcal//NONSGML v1.0//EN
CALSCALE:GREGORIAN
BEGIN:VEVENT
LOCATION:4 passage Maximilien-de-Meuron\, Neuchâtel 
DESCRIPTION:Lorraine Vurlod & Olivier Di Giambattista
SUMMARY:Exposition. « Les oubliés »
URL;VALUE=URI:
DTSTART;VALUE=DATE:20240111
DTEND;VALUE=DATE:20240322
DTSTAMP:20260423T051805Z
CREATED:20260423T051805Z
UID:69e9ab8d04dd0
END:VEVENT
END:VCALENDAR