BEGIN:VCALENDAR
VERSION:2.0
PRODID:-//hacksw/handcal//NONSGML v1.0//EN
CALSCALE:GREGORIAN
BEGIN:VEVENT
LOCATION:Fondation Braillard
DESCRIPTION:
SUMMARY:Conférence. Produire aux limites de la croissance
URL;VALUE=URI:
DTSTART;TZID=EUROPE/ZURICH:20240222T173000
DTEND;TZID=EUROPE/ZURICH:20240222T190000
DTSTAMP:20260424T223930Z
CREATED:20260424T223930Z
UID:69ebf1220d027
END:VEVENT
END:VCALENDAR