BEGIN:VCALENDAR
VERSION:2.0
PRODID:-//hacksw/handcal//NONSGML v1.0//EN
CALSCALE:GREGORIAN
BEGIN:VEVENT
LOCATION:SwissTech Convention Center
DESCRIPTION:
SUMMARY:Évènement. MINT Vaud
URL;VALUE=URI:
DTSTART;VALUE=DATE:20240226
DTEND;VALUE=DATE:20240303
DTSTAMP:20260420T200901Z
CREATED:20260420T200901Z
UID:69e687dd79399
END:VEVENT
END:VCALENDAR