BEGIN:VCALENDAR
VERSION:2.0
PRODID:-//hacksw/handcal//NONSGML v1.0//EN
CALSCALE:GREGORIAN
BEGIN:VEVENT
LOCATION:Place de la Cathédrale 4\, 1005 Lausanne
DESCRIPTION:
SUMMARY:Exposition. Glaciers. Un monde en mouvement
URL;VALUE=URI:
DTSTART;VALUE=DATE:20240222
DTEND;VALUE=DATE:20240929
DTSTAMP:20260421T031156Z
CREATED:20260421T031156Z
UID:69e6eafc3db67
END:VEVENT
END:VCALENDAR